BEGIN:VCALENDAR
VERSION:2.0
PRODID:-//ChamberMaster//Event Calendar 2.0//EN
METHOD:PUBLISH
X-PUBLISHED-TTL:P1H
REFRESH-INTERVAL:P1H
CALSCALE:GREGORIAN
BEGIN:VTIMEZONE
TZID:America/New_York
BEGIN:DAYLIGHT
RRULE:FREQ=YEARLY;BYMONTH=3;BYDAY=2SU
DTSTART:20070101T000000
TZOFFSETFROM:-0500
TZOFFSETTO:-0400
TZNAME:Eastern Daylight Time
END:DAYLIGHT
BEGIN:STANDARD
RRULE:FREQ=YEARLY;BYMONTH=11;BYDAY=1SU
DTSTART:20070101T000000
TZOFFSETFROM:-0400
TZOFFSETTO:-0500
TZNAME:Eastern Standard Time
END:STANDARD
END:VTIMEZONE
BEGIN:VEVENT
DTSTART;TZID=America/New_York:20260514T160000
DTEND;TZID=America/New_York:20260514T190000
X-MICROSOFT-CDO-ALLDAYEVENT:FALSE
SUMMARY:Triangle Networking Social
DESCRIPTION:Get ready to mix\, mingle\, and make meaningful connections at the NC CCIM Triangle Networking Social on May 14th at Zinc House! Guests are invited to enjoy food and beverages available for individual purchase while networking with fellow commercial real estate professionals from across the Triangle for an evening designed to spark conversations\, strengthen relationships\, and expand your network in a vibrant\, laid-back setting. Whether you're a seasoned CCIM\, emerging professional\, or industry partner\, this is your chance to connect with the people driving deals and shaping the market in North Carolina. Enjoy a relaxed atmosphere\, great drinks\, and even better company as you build new relationships and reconnect with familiar faces. Opportunities like this don't come around often don't miss your chance to be part of the conversation. Mark your calendar\, bring a colleague\, and let's raise a glass to connections that count.
X-ALT-DESC;FMTTYPE=text/html:<!DOCTYPE html><html><head><title></title></head><body aria-disabled="false"><p>Get ready to mix\, mingle\, and make meaningful connections at the NC CCIM Triangle Networking Social on May 14th at Zinc House! <em><strong fr-original-style="" style="font-weight: 700\;">Guests are invited to enjoy food and beverages available for individual purchase while networking with fellow&nbsp\;</strong></em><em><strong fr-original-style="" style="font-weight: 700\;">commercial real estate professionals</strong></em> from across the Triangle for an evening designed to spark conversations\, strengthen relationships\, and expand your network in a vibrant\, laid-back setting. Whether you&#39\;re a seasoned CCIM\, emerging professional\, or industry partner\, this is your chance to connect with the people driving deals and shaping the market in North Carolina. Enjoy a relaxed atmosphere\, great drinks\, and even better company as you build new relationships and reconnect with familiar faces. Opportunities like this don&rsquo\;t come around often&mdash\;don&rsquo\;t miss your chance to be part of the conversation. Mark your calendar\, bring a colleague\, and let&rsquo\;s raise a glass to connections that count.</p><p><br></p></body></html>
LOCATION:6225 Wake Forest Hwy Durham NC 27703
UID:e.3002.1442519
SEQUENCE:3
DTSTAMP:20260421T154514Z
URL:https://member.nc-ccim.org/educationcalendar/Details/triangle-networking-social-1708517?sourceTypeId=Hub
END:VEVENT
END:VCALENDAR
